BEGIN:VCALENDAR
VERSION:2.0
PRODID:-//Intand Corporation//Tandem//EN
METHOD:PUBLISH
BEGIN:VEVENT
DTSTAMP:20260424T183828Z
DTSTART:20220502T135000Z
DTEND:20220502T141500Z
TRANSP:TRANSPARENT
PRIORITY:0
SUMMARY:Senior Class Meeting
LOCATION:St. Francis de Sales School > Main Gym
DESCRIPTION:Schools:\nSt. Francis de Sales School\n\nLocation:\nSt. Franci
 s de Sales School > Main Gym\n\n
URL;VALUE=URI:http://sfs.tandem.co/index.php?type=view&action=event&id=156
 98
CREATED:20220426T194313Z
LAST-MODIFIED:20220426T194313Z
UID:event-15698-stfrancisdesales@intand.com
END:VEVENT
END:VCALENDAR
