BEGIN:VCALENDAR
VERSION:2.0
PRODID:-//Intand Corporation//Tandem//EN
METHOD:PUBLISH
BEGIN:VEVENT
DTSTAMP:20260424T185908Z
DTSTART:20220511T203000Z
DTEND:20220511T220000Z
TRANSP:TRANSPARENT
PRIORITY:0
SUMMARY:Tennis vs Southview
LOCATION:Toledo Tennis Club
DESCRIPTION:Location:\nToledo Tennis Club\n\n
URL;VALUE=URI:http://sfs.tandem.co/index.php?type=view&action=event&id=157
 77
CREATED:20220504T181317Z
LAST-MODIFIED:20220504T181317Z
UID:event-15777-stfrancisdesales@intand.com
END:VEVENT
END:VCALENDAR
