BEGIN:VCALENDAR
VERSION:2.0
PRODID:-//Intand Corporation//Tandem//EN
METHOD:PUBLISH
BEGIN:VEVENT
DTSTAMP:20260424T183521Z
DTSTART:20201031T120000Z
DTEND:20201031T143000Z
TRANSP:TRANSPARENT
PRIORITY:0
SUMMARY:Hockey - Fitness Testing
LOCATION:St. Francis de Sales School > Athletic Fields > LaValley Field (S
 tadium)
DESCRIPTION:Hockey will be using the track and turf for fitness testing as
  part of their tryouts. \n\nSchools:\nSt. Francis de Sales School\n\nLocat
 ion:\nSt. Francis de Sales School > Athletic Fields > LaValley Field (Stad
 ium)\n\n
URL;VALUE=URI:http://sfs.tandem.co/index.php?type=view&action=event&id=1645
CREATED:20200818T162032Z
LAST-MODIFIED:20200818T162032Z
UID:event-1645-stfrancisdesales@intand.com
END:VEVENT
END:VCALENDAR
