BEGIN:VCALENDAR
VERSION:2.0
PRODID:-//Intand Corporation//Tandem//EN
METHOD:PUBLISH
BEGIN:VEVENT
DTSTAMP:20260424T230135Z
DTSTART:20201005T094500Z
DTEND:20201005T113000Z
TRANSP:TRANSPARENT
PRIORITY:0
SUMMARY:Water Polo - Practice
LOCATION:St. Francis de Sales School > Pool
DESCRIPTION:Schools:\nSt. Francis de Sales School\n\nLocation:\nSt. Franci
 s de Sales School > Pool\n\n
URL;VALUE=URI:http://sfs.tandem.co/index.php?type=view&action=event&id=1689
CREATED:20200827T150542Z
LAST-MODIFIED:20200924T172244Z
UID:event-1689-stfrancisdesales@intand.com
END:VEVENT
END:VCALENDAR
