BEGIN:VCALENDAR
VERSION:2.0
PRODID:-//Intand Corporation//Tandem//EN
METHOD:PUBLISH
BEGIN:VEVENT
DTSTAMP:20260424T184855Z
DTSTART:20220722T220000Z
DTEND:20220723T010000Z
TRANSP:TRANSPARENT
PRIORITY:0
SUMMARY:Football Mini-Camp / Scrimmage vs Bowsher
LOCATION:St. Francis de Sales School > Athletic Fields > LaValley Field (S
 tadium)
DESCRIPTION:Schools:\nSt. Francis de Sales School\n\nLocation:\nSt. Franci
 s de Sales School > Athletic Fields > LaValley Field (Stadium)\n\n
URL;VALUE=URI:http://sfs.tandem.co/index.php?type=view&action=event&id=171
 06
CREATED:20220716T114338Z
LAST-MODIFIED:20220716T114338Z
UID:event-17106-stfrancisdesales@intand.com
END:VEVENT
END:VCALENDAR
