BEGIN:VCALENDAR
VERSION:2.0
PRODID:-//Intand Corporation//Tandem//EN
METHOD:PUBLISH
BEGIN:VEVENT
DTSTAMP:20260424T201025Z
DTSTART;VALUE=DATE:20230926
DTEND;VALUE=DATE:20230927
TRANSP:TRANSPARENT
PRIORITY:0
SUMMARY:Admission- Charter schools
LOCATION:St. Francis de Sales School
DESCRIPTION:Schools:\nSt. Francis de Sales School\n\nLocation:\nSt. Franci
 s de Sales School\n\n
URL;VALUE=URI:http://sfs.tandem.co/index.php?type=view&action=event&id=176
 56
CREATED:20230413T170743Z
LAST-MODIFIED:20230413T170743Z
UID:event-17656-stfrancisdesales@intand.com
END:VEVENT
END:VCALENDAR
