BEGIN:VCALENDAR
VERSION:2.0
PRODID:-//Intand Corporation//Tandem//EN
METHOD:PUBLISH
BEGIN:VEVENT
DTSTAMP:20260424T183903Z
DTSTART;VALUE=DATE:20240215
DTEND;VALUE=DATE:20240216
TRANSP:TRANSPARENT
PRIORITY:0
SUMMARY:E Schedule - Parent Teacher Conferences
LOCATION:St. Francis de Sales School
DESCRIPTION:Schools:\nSt. Francis de Sales School\n\nLocation:\nSt. Franci
 s de Sales School\n\n
URL;VALUE=URI:http://sfs.tandem.co/index.php?type=view&action=event&id=177
 32
CREATED:20230515T134937Z
LAST-MODIFIED:20240209T141519Z
UID:event-17732-stfrancisdesales@intand.com
END:VEVENT
END:VCALENDAR
