BEGIN:VCALENDAR
VERSION:2.0
PRODID:-//Intand Corporation//Tandem//EN
METHOD:PUBLISH
BEGIN:VEVENT
DTSTAMP:20260424T184620Z
DTSTART:20230613T210000Z
DTEND:20230614T000000Z
TRANSP:TRANSPARENT
PRIORITY:0
SUMMARY:Summer Baseball Game
LOCATION:St. Francis de Sales School > Athletic Fields > Kober Field (Base
 ball)
DESCRIPTION:vs Springfield\n\nSchools:\nSt. Francis de Sales School\n\nLoc
 ation:\nSt. Francis de Sales School > Athletic Fields > Kober Field (Baseb
 all)\n\n
URL;VALUE=URI:http://sfs.tandem.co/index.php?type=view&action=event&id=177
 79
CREATED:20230528T165624Z
LAST-MODIFIED:20230528T165624Z
UID:event-17779-stfrancisdesales@intand.com
END:VEVENT
END:VCALENDAR
