BEGIN:VCALENDAR
VERSION:2.0
PRODID:-//Intand Corporation//Tandem//EN
METHOD:PUBLISH
BEGIN:VEVENT
DTSTAMP:20260424T201319Z
DTSTART:20230620T180000Z
DTEND:20230620T200000Z
TRANSP:TRANSPARENT
PRIORITY:0
SUMMARY:[Cancelled] Open Weightroom
LOCATION:St. Francis de Sales School > Weight Room
DESCRIPTION:Open Weightroom with Coach Scruggs\n\nSchools:\nSt. Francis de
  Sales School\n\nLocation:\nSt. Francis de Sales School > Weight Room\n\n
URL;VALUE=URI:http://sfs.tandem.co/index.php?type=view&action=event&id=178
 46
CREATED:20230612T161355Z
LAST-MODIFIED:20230619T170038Z
UID:event-17846-stfrancisdesales@intand.com
END:VEVENT
END:VCALENDAR
