BEGIN:VCALENDAR
VERSION:2.0
PRODID:-//Intand Corporation//Tandem//EN
METHOD:PUBLISH
BEGIN:VEVENT
DTSTAMP:20260424T184659Z
DTSTART:20231209T000000Z
DTEND:20231209T020000Z
TRANSP:TRANSPARENT
PRIORITY:0
SUMMARY:Varsity Basketball vs St. John's Jesuit
LOCATION:St. Francis de Sales School > Main Gym
DESCRIPTION:Schools:\nSt. Francis de Sales School\n\nLocation:\nSt. Franci
 s de Sales School > Main Gym\n\n
URL;VALUE=URI:http://sfs.tandem.co/index.php?type=view&action=event&id=181
 46
CREATED:20230630T170119Z
LAST-MODIFIED:20230630T170119Z
UID:event-18146-stfrancisdesales@intand.com
END:VEVENT
END:VCALENDAR
