BEGIN:VCALENDAR
VERSION:2.0
PRODID:-//Intand Corporation//Tandem//EN
METHOD:PUBLISH
BEGIN:VEVENT
DTSTAMP:20260424T184833Z
DTSTART:20230715T120000Z
DTEND:20230715T160000Z
TRANSP:TRANSPARENT
PRIORITY:0
SUMMARY:SUA Workouts
LOCATION:St. Francis de Sales School > Athletic Fields > Gesu Field
DESCRIPTION:Schools:\nSt. Francis de Sales School\n\nLocation:\nSt. Franci
 s de Sales School > Athletic Fields > Gesu Field\n\n
URL;VALUE=URI:http://sfs.tandem.co/index.php?type=view&action=event&id=181
 63
CREATED:20230705T182433Z
LAST-MODIFIED:20230705T182433Z
UID:event-18163-stfrancisdesales@intand.com
END:VEVENT
END:VCALENDAR
