BEGIN:VCALENDAR
VERSION:2.0
PRODID:-//Intand Corporation//Tandem//EN
METHOD:PUBLISH
BEGIN:VEVENT
DTSTAMP:20260424T183712Z
DTSTART:20240128T230000Z
DTEND:20240129T020000Z
TRANSP:TRANSPARENT
PRIORITY:0
SUMMARY:Chappuis - Mother-Son Dance
LOCATION:St. Francis de Sales School > Main Gym\, St. Francis de Sales Sch
 ool > Multi-Purpose Room\, St. Francis de Sales School > West Lobby
DESCRIPTION:Schools:\nSt. Francis de Sales School\n\nLocations:\nSt. Franc
 is de Sales School > Main Gym\nSt. Francis de Sales School > Multi-Purpose
  Room\nSt. Francis de Sales School > West Lobby\n\n
URL;VALUE=URI:http://sfs.tandem.co/index.php?type=view&action=event&id=183
 72
CREATED:20230718T143824Z
LAST-MODIFIED:20230727T194254Z
UID:event-18372-stfrancisdesales@intand.com
END:VEVENT
END:VCALENDAR
