BEGIN:VCALENDAR
VERSION:2.0
PRODID:-//Intand Corporation//Tandem//EN
METHOD:PUBLISH
BEGIN:VEVENT
DTSTAMP:20260424T184634Z
DTSTART;VALUE=DATE:20240112
DTEND;VALUE=DATE:20240113
TRANSP:TRANSPARENT
PRIORITY:0
SUMMARY:D Schedule 
LOCATION:St. Francis de Sales School
DESCRIPTION:Schools:\nSt. Francis de Sales School\n\nLocation:\nSt. Franci
 s de Sales School\n\n
URL;VALUE=URI:http://sfs.tandem.co/index.php?type=view&action=event&id=205
 86
CREATED:20231109T165952Z
LAST-MODIFIED:20231109T165952Z
UID:event-20586-stfrancisdesales@intand.com
END:VEVENT
END:VCALENDAR
