BEGIN:VCALENDAR
VERSION:2.0
PRODID:-//Intand Corporation//Tandem//EN
METHOD:PUBLISH
BEGIN:VEVENT
DTSTAMP:20260424T184700Z
DTSTART:20240125T000000Z
DTEND:20240125T020000Z
TRANSP:TRANSPARENT
PRIORITY:0
SUMMARY:CYO Basketball Practice
LOCATION:St. Francis de Sales School > Aux Gym
DESCRIPTION:Schools:\nSt. Francis de Sales School\n\nLocation:\nSt. Franci
 s de Sales School > Aux Gym\n\n
URL;VALUE=URI:http://sfs.tandem.co/index.php?type=view&action=event&id=214
 29
CREATED:20240118T204722Z
LAST-MODIFIED:20240118T204722Z
UID:event-21429-stfrancisdesales@intand.com
END:VEVENT
END:VCALENDAR
