BEGIN:VCALENDAR
VERSION:2.0
PRODID:-//Intand Corporation//Tandem//EN
METHOD:PUBLISH
BEGIN:VEVENT
DTSTAMP:20260424T183525Z
DTSTART:20201124T203000Z
DTEND:20201124T220000Z
TRANSP:TRANSPARENT
PRIORITY:0
SUMMARY:[Cancelled] Freshmen & JV Basketball Scrimmage vs Springfield
LOCATION:St. Francis de Sales School > Main Gym
DESCRIPTION:Schools:\nSt. Francis de Sales School\nSPRINGFIELD HIGH SCHOOL
 \n\nLocation:\nSt. Francis de Sales School > Main Gym\n\n
URL;VALUE=URI:http://sfs.tandem.co/index.php?type=view&action=event&id=2489
CREATED:20201006T175420Z
LAST-MODIFIED:20201123T204755Z
UID:event-2489-stfrancisdesales@intand.com
END:VEVENT
END:VCALENDAR
