BEGIN:VCALENDAR
VERSION:2.0
PRODID:-//Intand Corporation//Tandem//EN
METHOD:PUBLISH
BEGIN:VEVENT
DTSTAMP:20260424T183631Z
DTSTART:20201204T003000Z
DTEND:20201204T020000Z
TRANSP:TRANSPARENT
PRIORITY:0
SUMMARY:Varsity Basketball vs Central Catholic
LOCATION:St. Francis de Sales School > Main Gym
DESCRIPTION:BCSN Live TV\n\nSchools:\nSt. Francis de Sales School\nToledo 
 Central Catholic High School\n\nLocation:\nSt. Francis de Sales School > M
 ain Gym\n\n
URL;VALUE=URI:http://sfs.tandem.co/index.php?type=view&action=event&id=2498
CREATED:20201006T180125Z
LAST-MODIFIED:20201201T204047Z
UID:event-2498-stfrancisdesales@intand.com
END:VEVENT
END:VCALENDAR
