BEGIN:VCALENDAR
VERSION:2.0
PRODID:-//Intand Corporation//Tandem//EN
METHOD:PUBLISH
BEGIN:VEVENT
DTSTAMP:20260424T183807Z
DTSTART:20210108T213000Z
DTEND:20210108T224500Z
TRANSP:TRANSPARENT
PRIORITY:0
SUMMARY:[Cancelled] Freshmen Basketball vs St. John's
LOCATION:St. Francis de Sales School > Main Gym
DESCRIPTION:Schools:\nSt. Francis de Sales School\nSt. John's Jesuit\n\nLo
 cation:\nSt. Francis de Sales School > Main Gym\n\n
URL;VALUE=URI:http://sfs.tandem.co/index.php?type=view&action=event&id=2516
CREATED:20201006T181322Z
LAST-MODIFIED:20201204T214719Z
UID:event-2516-stfrancisdesales@intand.com
END:VEVENT
END:VCALENDAR
