BEGIN:VCALENDAR
VERSION:2.0
PRODID:-//Intand Corporation//Tandem//EN
METHOD:PUBLISH
BEGIN:VEVENT
DTSTAMP:20260424T201040Z
DTSTART:20201029T191500Z
DTEND:20201029T210000Z
TRANSP:TRANSPARENT
PRIORITY:0
SUMMARY:Baseball - Open Fields
LOCATION:St. Francis de Sales School > Athletic Fields > Kober Field (Base
 ball)
DESCRIPTION:Schools:\nSt. Francis de Sales School\n\nLocation:\nSt. Franci
 s de Sales School > Athletic Fields > Kober Field (Baseball)\n\n
URL;VALUE=URI:http://sfs.tandem.co/index.php?type=view&action=event&id=2673
CREATED:20201008T184112Z
LAST-MODIFIED:20201008T184112Z
UID:event-2673-stfrancisdesales@intand.com
END:VEVENT
END:VCALENDAR
