BEGIN:VCALENDAR
VERSION:2.0
PRODID:-//Intand Corporation//Tandem//EN
METHOD:PUBLISH
BEGIN:VEVENT
DTSTAMP:20260424T230341Z
DTSTART:20210902T120000Z
DTEND:20210902T180000Z
TRANSP:TRANSPARENT
PRIORITY:0
SUMMARY:Returning Students - Orientation Day
LOCATION:St. Francis de Sales School
DESCRIPTION:Schools:\nSt. Francis de Sales School\n\nLocation:\nSt. Franci
 s de Sales School\n\n
URL;VALUE=URI:http://sfs.tandem.co/index.php?type=view&action=event&id=2748
CREATED:20201013T132831Z
LAST-MODIFIED:20210520T193622Z
UID:event-2748-stfrancisdesales@intand.com
END:VEVENT
END:VCALENDAR
