BEGIN:VCALENDAR
VERSION:2.0
PRODID:-//Intand Corporation//Tandem//EN
METHOD:PUBLISH
BEGIN:VEVENT
DTSTAMP:20260424T183504Z
DTSTART:20210222T223000Z
DTEND:20210222T231500Z
TRANSP:TRANSPARENT
PRIORITY:0
SUMMARY:Basketball - Team Meetings
LOCATION:St. Francis de Sales School > Classrooms > Room 116
DESCRIPTION:Schools:\nSt. Francis de Sales School\n\nLocation:\nSt. Franci
 s de Sales School > Classrooms > Room 116\n\n
URL;VALUE=URI:http://sfs.tandem.co/index.php?type=view&action=event&id=3024
CREATED:20201014T115836Z
LAST-MODIFIED:20201014T115836Z
UID:event-3024-stfrancisdesales@intand.com
END:VEVENT
END:VCALENDAR
