BEGIN:VCALENDAR
VERSION:2.0
PRODID:-//Intand Corporation//Tandem//EN
METHOD:PUBLISH
BEGIN:VEVENT
DTSTAMP:20260424T201010Z
DTSTART:20201020T191500Z
DTEND:20201020T203000Z
TRANSP:TRANSPARENT
PRIORITY:0
SUMMARY:Basketball Open Gym
LOCATION:St. Francis de Sales School > Main Gym
DESCRIPTION:Schools:\nSt. Francis de Sales School\n\nLocation:\nSt. Franci
 s de Sales School > Main Gym\n\n
URL;VALUE=URI:http://sfs.tandem.co/index.php?type=view&action=event&id=3577
CREATED:20201020T160457Z
LAST-MODIFIED:20201020T160457Z
UID:event-3577-stfrancisdesales@intand.com
END:VEVENT
END:VCALENDAR
