BEGIN:VCALENDAR
VERSION:2.0
PRODID:-//Intand Corporation//Tandem//EN
METHOD:PUBLISH
BEGIN:VEVENT
DTSTAMP:20260424T201019Z
DTSTART:20201028T230000Z
DTEND:20201029T003000Z
TRANSP:TRANSPARENT
PRIORITY:0
SUMMARY:Swim & Dive Parent Meeting
LOCATION:St. Francis de Sales School > Virtual
DESCRIPTION:Schools:\nSt. Francis de Sales School\n\nLocation:\nSt. Franci
 s de Sales School > Virtual\n\n
URL;VALUE=URI:http://sfs.tandem.co/index.php?type=view&action=event&id=3676
CREATED:20201026T174907Z
LAST-MODIFIED:20201026T174907Z
UID:event-3676-stfrancisdesales@intand.com
END:VEVENT
END:VCALENDAR
