BEGIN:VCALENDAR
VERSION:2.0
PRODID:-//Intand Corporation//Tandem//EN
METHOD:PUBLISH
BEGIN:VEVENT
DTSTAMP:20260424T183707Z
DTSTART:20201202T104500Z
DTEND:20201202T123000Z
TRANSP:TRANSPARENT
PRIORITY:0
SUMMARY:Swimming Practice
LOCATION:St. Francis de Sales School > Pool
DESCRIPTION:Schools:\nSt. Francis de Sales School\n\nLocation:\nSt. Franci
 s de Sales School > Pool\n\n
URL;VALUE=URI:http://sfs.tandem.co/index.php?type=view&action=event&id=3891
CREATED:20201030T183447Z
LAST-MODIFIED:20201030T183447Z
UID:event-3891-stfrancisdesales@intand.com
END:VEVENT
END:VCALENDAR
