BEGIN:VCALENDAR
VERSION:2.0
PRODID:-//Intand Corporation//Tandem//EN
METHOD:PUBLISH
BEGIN:VEVENT
DTSTAMP:20260424T201330Z
DTSTART:20210205T104500Z
DTEND:20210205T123000Z
TRANSP:TRANSPARENT
PRIORITY:0
SUMMARY:[Cancelled] Swimming Practice
LOCATION:St. Francis de Sales School > Pool
DESCRIPTION:Schools:\nSt. Francis de Sales School\n\nLocation:\nSt. Franci
 s de Sales School > Pool\n\n
URL;VALUE=URI:http://sfs.tandem.co/index.php?type=view&action=event&id=3919
CREATED:20201030T183447Z
LAST-MODIFIED:20210205T032552Z
UID:event-3919-stfrancisdesales@intand.com
END:VEVENT
END:VCALENDAR
