BEGIN:VCALENDAR
VERSION:2.0
PRODID:-//Intand Corporation//Tandem//EN
METHOD:PUBLISH
BEGIN:VEVENT
DTSTAMP:20260424T200914Z
DTSTART:20201202T210000Z
DTEND:20201203T010000Z
TRANSP:TRANSPARENT
PRIORITY:0
SUMMARY:Open House #4
LOCATION:St. Francis de Sales School
DESCRIPTION:Setup: 2:00 pm\nBreakdown: 9:30 pm\n\nSchools:\nSt. Francis de
  Sales School\n\nLocation:\nSt. Francis de Sales School\n\n
URL;VALUE=URI:http://sfs.tandem.co/index.php?type=view&action=event&id=4337
CREATED:20201110T143037Z
LAST-MODIFIED:20201110T143037Z
UID:event-4337-stfrancisdesales@intand.com
END:VEVENT
END:VCALENDAR
