BEGIN:VCALENDAR
VERSION:2.0
PRODID:-//Intand Corporation//Tandem//EN
METHOD:PUBLISH
BEGIN:VEVENT
DTSTAMP:20260424T201035Z
DTSTART:20201128T210000Z
DTEND:20201128T230000Z
TRANSP:TRANSPARENT
PRIORITY:0
SUMMARY:8th Grade CYO A Basketball Practice
LOCATION:St. Francis de Sales School > Main Gym
DESCRIPTION:Schools:\nSt. Francis de Sales School\n\nLocation:\nSt. Franci
 s de Sales School > Main Gym\n\n
URL;VALUE=URI:http://sfs.tandem.co/index.php?type=view&action=event&id=4472
CREATED:20201111T162127Z
LAST-MODIFIED:20201111T162127Z
UID:event-4472-stfrancisdesales@intand.com
END:VEVENT
END:VCALENDAR
