BEGIN:VCALENDAR
VERSION:2.0
PRODID:-//Intand Corporation//Tandem//EN
METHOD:PUBLISH
BEGIN:VEVENT
DTSTAMP:20260424T183513Z
DTSTART:20210414T121500Z
DTEND:20210414T164500Z
TRANSP:TRANSPARENT
PRIORITY:0
SUMMARY:State Testing Day
LOCATION:St. Francis de Sales School
DESCRIPTION:Schools:\nSt. Francis de Sales School\n\nLocation:\nSt. Franci
 s de Sales School\n\n
URL;VALUE=URI:http://sfs.tandem.co/index.php?type=view&action=event&id=4603
CREATED:20201120T133651Z
LAST-MODIFIED:20201120T133731Z
UID:event-4603-stfrancisdesales@intand.com
END:VEVENT
END:VCALENDAR
