BEGIN:VCALENDAR
VERSION:2.0
PRODID:-//Intand Corporation//Tandem//EN
METHOD:PUBLISH
BEGIN:VEVENT
DTSTAMP:20260424T201125Z
DTSTART:20210212T130000Z
DTEND:20210212T143000Z
TRANSP:TRANSPARENT
PRIORITY:0
SUMMARY:Track & Field Lifting
LOCATION:St. Francis de Sales School > Weight Room\, St. Francis de Sales 
 School > Main Gym
DESCRIPTION:Schools:\nSt. Francis de Sales School\n\nLocations:\nSt. Franc
 is de Sales School > Weight Room\nSt. Francis de Sales School > Main Gym\n
 \n
URL;VALUE=URI:http://sfs.tandem.co/index.php?type=view&action=event&id=5099
CREATED:20210105T153403Z
LAST-MODIFIED:20210211T154105Z
UID:event-5099-stfrancisdesales@intand.com
END:VEVENT
END:VCALENDAR
