BEGIN:VCALENDAR
VERSION:2.0
PRODID:-//Intand Corporation//Tandem//EN
METHOD:PUBLISH
BEGIN:VEVENT
DTSTAMP:20260424T183720Z
DTSTART:20210406T213000Z
DTEND:20210406T230000Z
TRANSP:TRANSPARENT
PRIORITY:0
SUMMARY:JV Lacrosse - Game vs Clay
LOCATION:St. Francis de Sales School > Athletic Fields > LaValley Field (S
 tadium)
DESCRIPTION:Schools:\nSt. Francis de Sales School\nCLAY HIGH SCHOOL\n\nLoc
 ation:\nSt. Francis de Sales School > Athletic Fields > LaValley Field (St
 adium)\n\n
URL;VALUE=URI:http://sfs.tandem.co/index.php?type=view&action=event&id=5371
CREATED:20210120T184952Z
LAST-MODIFIED:20210330T140847Z
UID:event-5371-stfrancisdesales@intand.com
END:VEVENT
END:VCALENDAR
