BEGIN:VCALENDAR
VERSION:2.0
PRODID:-//Intand Corporation//Tandem//EN
METHOD:PUBLISH
BEGIN:VEVENT
DTSTAMP:20260424T183816Z
DTSTART:20210327T150000Z
DTEND:20210327T180000Z
TRANSP:TRANSPARENT
PRIORITY:0
SUMMARY:Track & Field vs Whitmer/St. John's
LOCATION:St. Francis de Sales School > Athletic Fields > LaValley Field (S
 tadium)
DESCRIPTION:Schools:\nSt. Francis de Sales School\n\nLocation:\nSt. Franci
 s de Sales School > Athletic Fields > LaValley Field (Stadium)\n\n
URL;VALUE=URI:http://sfs.tandem.co/index.php?type=view&action=event&id=5379
CREATED:20210120T194402Z
LAST-MODIFIED:20210225T171654Z
UID:event-5379-stfrancisdesales@intand.com
END:VEVENT
END:VCALENDAR
