BEGIN:VCALENDAR
VERSION:2.0
PRODID:-//Intand Corporation//Tandem//EN
METHOD:PUBLISH
BEGIN:VEVENT
DTSTAMP:20260424T183523Z
DTSTART:20210215T110000Z
DTEND:20210215T124500Z
TRANSP:TRANSPARENT
PRIORITY:0
SUMMARY:[Cancelled] Varsity Basketball Practice
LOCATION:St. Francis de Sales School > Main Gym
DESCRIPTION:Schools:\nSt. Francis de Sales School\n\nLocation:\nSt. Franci
 s de Sales School > Main Gym\n\n
URL;VALUE=URI:http://sfs.tandem.co/index.php?type=view&action=event&id=5592
CREATED:20210126T175833Z
LAST-MODIFIED:20210211T154504Z
UID:event-5592-stfrancisdesales@intand.com
END:VEVENT
END:VCALENDAR
