BEGIN:VCALENDAR
VERSION:2.0
PRODID:-//Intand Corporation//Tandem//EN
METHOD:PUBLISH
BEGIN:VEVENT
DTSTAMP:20260424T230142Z
DTSTART:20210210T223000Z
DTEND:20210211T000000Z
TRANSP:TRANSPARENT
PRIORITY:0
SUMMARY:JV Basketball vs Spire
LOCATION:St. Francis de Sales School > Main Gym
DESCRIPTION:Schools:\nSt. Francis de Sales School\n\nLocation:\nSt. Franci
 s de Sales School > Main Gym\n\n
URL;VALUE=URI:http://sfs.tandem.co/index.php?type=view&action=event&id=5757
CREATED:20210126T182745Z
LAST-MODIFIED:20210210T024613Z
UID:event-5757-stfrancisdesales@intand.com
END:VEVENT
END:VCALENDAR
