BEGIN:VCALENDAR
VERSION:2.0
PRODID:-//Intand Corporation//Tandem//EN
METHOD:PUBLISH
BEGIN:VEVENT
DTSTAMP:20260424T200913Z
DTSTART:20210209T230000Z
DTEND:20210210T010000Z
TRANSP:TRANSPARENT
PRIORITY:0
SUMMARY:8th Comp Basketball Practice
LOCATION:St. Francis de Sales School > Main Gym
DESCRIPTION:Schools:\nSt. Francis de Sales School\n\nLocation:\nSt. Franci
 s de Sales School > Main Gym\n\n
URL;VALUE=URI:http://sfs.tandem.co/index.php?type=view&action=event&id=5935
CREATED:20210202T183339Z
LAST-MODIFIED:20210202T183339Z
UID:event-5935-stfrancisdesales@intand.com
END:VEVENT
END:VCALENDAR
