BEGIN:VCALENDAR
VERSION:2.0
PRODID:-//Intand Corporation//Tandem//EN
METHOD:PUBLISH
BEGIN:VEVENT
DTSTAMP:20260424T183449Z
DTSTART:20210212T150000Z
DTEND:20210212T153000Z
TRANSP:TRANSPARENT
PRIORITY:0
SUMMARY:Hockey Team Mass
LOCATION:St. Francis de Sales School > Chapels > School Chapel
DESCRIPTION:Schools:\nSt. Francis de Sales School\n\nLocation:\nSt. Franci
 s de Sales School > Chapels > School Chapel\n\n
URL;VALUE=URI:http://sfs.tandem.co/index.php?type=view&action=event&id=5992
CREATED:20210208T160540Z
LAST-MODIFIED:20210211T124625Z
UID:event-5992-stfrancisdesales@intand.com
END:VEVENT
END:VCALENDAR
