BEGIN:VCALENDAR
VERSION:2.0
PRODID:-//Intand Corporation//Tandem//EN
METHOD:PUBLISH
BEGIN:VEVENT
DTSTAMP:20260424T183505Z
DTSTART:20210212T130000Z
DTEND:20210212T134500Z
TRANSP:TRANSPARENT
PRIORITY:0
SUMMARY:Track & Field Conditioning
LOCATION:St. Francis de Sales School > Aux Gym
DESCRIPTION:Schools:\nSt. Francis de Sales School\n\nLocation:\nSt. Franci
 s de Sales School > Aux Gym\n\n
URL;VALUE=URI:http://sfs.tandem.co/index.php?type=view&action=event&id=6068
CREATED:20210211T154257Z
LAST-MODIFIED:20210211T154257Z
UID:event-6068-stfrancisdesales@intand.com
END:VEVENT
END:VCALENDAR
