BEGIN:VCALENDAR
VERSION:2.0
PRODID:-//Intand Corporation//Tandem//EN
METHOD:PUBLISH
BEGIN:VEVENT
DTSTAMP:20260424T183804Z
DTSTART:20210512T193000Z
DTEND:20210512T210000Z
TRANSP:TRANSPARENT
PRIORITY:0
SUMMARY:Track & Field Practice
LOCATION:St. Francis de Sales School > Athletic Fields > LaValley Field (S
 tadium)
DESCRIPTION:Schools:\nSt. Francis de Sales School\n\nLocation:\nSt. Franci
 s de Sales School > Athletic Fields > LaValley Field (Stadium)\n\n
URL;VALUE=URI:http://sfs.tandem.co/index.php?type=view&action=event&id=6204
CREATED:20210217T183408Z
LAST-MODIFIED:20210217T183408Z
UID:event-6204-stfrancisdesales@intand.com
END:VEVENT
END:VCALENDAR
