BEGIN:VCALENDAR
VERSION:2.0
PRODID:-//Intand Corporation//Tandem//EN
METHOD:PUBLISH
BEGIN:VEVENT
DTSTAMP:20260424T201421Z
DTSTART:20210518T191500Z
DTEND:20210518T203000Z
TRANSP:TRANSPARENT
PRIORITY:0
SUMMARY:Track & Field Practice
LOCATION:St. Francis de Sales School > Athletic Fields > LaValley Field (S
 tadium)
DESCRIPTION:Schools:\nSt. Francis de Sales School\n\nLocation:\nSt. Franci
 s de Sales School > Athletic Fields > LaValley Field (Stadium)\n\n
URL;VALUE=URI:http://sfs.tandem.co/index.php?type=view&action=event&id=6216
CREATED:20210217T183532Z
LAST-MODIFIED:20210511T121053Z
UID:event-6216-stfrancisdesales@intand.com
END:VEVENT
END:VCALENDAR
