BEGIN:VCALENDAR
VERSION:2.0
PRODID:-//Intand Corporation//Tandem//EN
METHOD:PUBLISH
BEGIN:VEVENT
DTSTAMP:20260424T183520Z
DTSTART:20210227T150000Z
DTEND:20210227T170000Z
TRANSP:TRANSPARENT
PRIORITY:0
SUMMARY:Varsity Lacrosse Practice
LOCATION:St. Francis de Sales School > Athletic Fields > LaValley Field (S
 tadium)
DESCRIPTION:Schools:\nSt. Francis de Sales School\n\nLocation:\nSt. Franci
 s de Sales School > Athletic Fields > LaValley Field (Stadium)\n\n
URL;VALUE=URI:http://sfs.tandem.co/index.php?type=view&action=event&id=6322
CREATED:20210223T160305Z
LAST-MODIFIED:20210223T160305Z
UID:event-6322-stfrancisdesales@intand.com
END:VEVENT
END:VCALENDAR
