BEGIN:VCALENDAR
VERSION:2.0
PRODID:-//Intand Corporation//Tandem//EN
METHOD:PUBLISH
BEGIN:VEVENT
DTSTAMP:20260424T183635Z
DTSTART:20210316T220000Z
DTEND:20210316T233000Z
TRANSP:TRANSPARENT
PRIORITY:0
SUMMARY:8th Grade CYO B Basketball Practice
LOCATION:St. Francis de Sales School > Main Gym
DESCRIPTION:Schools:\nSt. Francis de Sales School\n\nLocation:\nSt. Franci
 s de Sales School > Main Gym\n\n
URL;VALUE=URI:http://sfs.tandem.co/index.php?type=view&action=event&id=6329
CREATED:20210223T220338Z
LAST-MODIFIED:20210223T220338Z
UID:event-6329-stfrancisdesales@intand.com
END:VEVENT
END:VCALENDAR
