BEGIN:VCALENDAR
VERSION:2.0
PRODID:-//Intand Corporation//Tandem//EN
METHOD:PUBLISH
BEGIN:VEVENT
DTSTAMP:20260424T200919Z
DTSTART:20210925T170000Z
DTEND:20210925T183000Z
TRANSP:TRANSPARENT
PRIORITY:0
SUMMARY:JV Blue Soccer vs St. Ignatius
LOCATION:St. Francis de Sales School > Athletic Fields > LaValley Field (S
 tadium)
DESCRIPTION:Schools:\nSt. Francis de Sales School\n\nLocation:\nSt. Franci
 s de Sales School > Athletic Fields > LaValley Field (Stadium)\n\n
URL;VALUE=URI:http://sfs.tandem.co/index.php?type=view&action=event&id=7019
CREATED:20210323T161804Z
LAST-MODIFIED:20210916T182243Z
UID:event-7019-stfrancisdesales@intand.com
END:VEVENT
END:VCALENDAR
