BEGIN:VCALENDAR
VERSION:2.0
PRODID:-//Intand Corporation//Tandem//EN
METHOD:PUBLISH
BEGIN:VEVENT
DTSTAMP:20260424T201204Z
DTSTART:20210512T223000Z
DTEND:20210513T003000Z
TRANSP:TRANSPARENT
PRIORITY:0
SUMMARY:[Cancelled] JV Lacrosse vs Anthony Wayne
LOCATION:St. Francis de Sales School > Athletic Fields > LaValley Field (S
 tadium)
DESCRIPTION:Schools:\nSt. Francis de Sales School\n\nLocation:\nSt. Franci
 s de Sales School > Athletic Fields > LaValley Field (Stadium)\n\n
URL;VALUE=URI:http://sfs.tandem.co/index.php?type=view&action=event&id=7158
CREATED:20210331T133731Z
LAST-MODIFIED:20210419T210129Z
UID:event-7158-stfrancisdesales@intand.com
END:VEVENT
END:VCALENDAR
