BEGIN:VCALENDAR
VERSION:2.0
PRODID:-//Intand Corporation//Tandem//EN
METHOD:PUBLISH
BEGIN:VEVENT
DTSTAMP:20260424T230049Z
DTSTART:20210418T190000Z
DTEND:20210418T210000Z
TRANSP:TRANSPARENT
PRIORITY:0
SUMMARY:[Cancelled] Soccer Open Field
LOCATION:St. Francis de Sales School > Athletic Fields > LaValley Field (S
 tadium)
DESCRIPTION:Schools:\nSt. Francis de Sales School\n\nLocation:\nSt. Franci
 s de Sales School > Athletic Fields > LaValley Field (Stadium)\n\n
URL;VALUE=URI:http://sfs.tandem.co/index.php?type=view&action=event&id=7282
CREATED:20210413T163835Z
LAST-MODIFIED:20210415T174006Z
UID:event-7282-stfrancisdesales@intand.com
END:VEVENT
END:VCALENDAR
