BEGIN:VCALENDAR
VERSION:2.0
PRODID:-//Intand Corporation//Tandem//EN
METHOD:PUBLISH
BEGIN:VEVENT
DTSTAMP:20260424T184629Z
DTSTART:20210420T210000Z
DTEND:20210420T230000Z
TRANSP:TRANSPARENT
PRIORITY:0
SUMMARY:Basketball Open Gym
LOCATION:St. Francis de Sales School > Main Gym
DESCRIPTION:Schools:\nSt. Francis de Sales School\n\nLocation:\nSt. Franci
 s de Sales School > Main Gym\n\n
URL;VALUE=URI:http://sfs.tandem.co/index.php?type=view&action=event&id=7354
CREATED:20210414T210456Z
LAST-MODIFIED:20210415T013839Z
UID:event-7354-stfrancisdesales@intand.com
END:VEVENT
END:VCALENDAR
