BEGIN:VCALENDAR
VERSION:2.0
PRODID:-//Intand Corporation//Tandem//EN
METHOD:PUBLISH
BEGIN:VEVENT
DTSTAMP:20260424T201143Z
DTSTART:20210707T210000Z
DTEND:20210708T000000Z
TRANSP:TRANSPARENT
PRIORITY:0
SUMMARY:Football Mini Camp
LOCATION:St. Francis de Sales School > Athletic Fields > LaValley Field (S
 tadium)\, St. Francis de Sales School > Multi-Purpose Room
DESCRIPTION:Schools:\nSt. Francis de Sales School\n\nLocations:\nSt. Franc
 is de Sales School > Athletic Fields > LaValley Field (Stadium)\nSt. Franc
 is de Sales School > Multi-Purpose Room\n\n
URL;VALUE=URI:http://sfs.tandem.co/index.php?type=view&action=event&id=7475
CREATED:20210420T143925Z
LAST-MODIFIED:20210706T134522Z
UID:event-7475-stfrancisdesales@intand.com
END:VEVENT
END:VCALENDAR
