BEGIN:VCALENDAR
VERSION:2.0
PRODID:-//Intand Corporation//Tandem//EN
METHOD:PUBLISH
BEGIN:VEVENT
DTSTAMP:20260424T183442Z
DTSTART:20210506T200000Z
DTEND:20210506T210000Z
TRANSP:TRANSPARENT
PRIORITY:0
SUMMARY:Water Polo - Film/Chalktalk
LOCATION:St. Francis de Sales School > Classrooms > Room 120
DESCRIPTION:Schools:\nSt. Francis de Sales School\n\nLocation:\nSt. Franci
 s de Sales School > Classrooms > Room 120\n\nContacts:\nAndrew Klinger\n\n
URL;VALUE=URI:http://sfs.tandem.co/index.php?type=view&action=event&id=7776
CREATED:20210506T173756Z
LAST-MODIFIED:20210506T173756Z
UID:event-7776-stfrancisdesales@intand.com
END:VEVENT
END:VCALENDAR
