BEGIN:VCALENDAR
VERSION:2.0
PRODID:-//Intand Corporation//Tandem//EN
METHOD:PUBLISH
BEGIN:VEVENT
DTSTAMP:20260424T201329Z
DTSTART;VALUE=DATE:20220408
DTEND;VALUE=DATE:20220409
TRANSP:TRANSPARENT
PRIORITY:0
SUMMARY:No School - Spring Break
LOCATION:St. Francis de Sales School
DESCRIPTION:Schools:\nSt. Francis de Sales School\n\nLocation:\nSt. Franci
 s de Sales School\n\n
URL;VALUE=URI:http://sfs.tandem.co/index.php?type=view&action=event&id=7819
CREATED:20210507T164550Z
LAST-MODIFIED:20210507T164550Z
UID:event-7819-stfrancisdesales@intand.com
END:VEVENT
END:VCALENDAR
