BEGIN:VCALENDAR
VERSION:2.0
PRODID:-//Intand Corporation//Tandem//EN
METHOD:PUBLISH
BEGIN:VEVENT
DTSTAMP:20260424T201043Z
DTSTART:20210523T170000Z
DTEND:20210523T183000Z
TRANSP:TRANSPARENT
PRIORITY:0
SUMMARY:Lacrosse Practice
LOCATION:St. Francis de Sales School > Athletic Fields > LaValley Field (S
 tadium)
DESCRIPTION:Schools:\nSt. Francis de Sales School\n\nLocation:\nSt. Franci
 s de Sales School > Athletic Fields > LaValley Field (Stadium)\n\n
URL;VALUE=URI:http://sfs.tandem.co/index.php?type=view&action=event&id=8068
CREATED:20210518T174135Z
LAST-MODIFIED:20210518T174135Z
UID:event-8068-stfrancisdesales@intand.com
END:VEVENT
END:VCALENDAR
