BEGIN:VCALENDAR
VERSION:2.0
PRODID:-//Intand Corporation//Tandem//EN
METHOD:PUBLISH
BEGIN:VEVENT
DTSTAMP:20260424T201127Z
DTSTART:20210915T230000Z
DTEND:20210916T010000Z
TRANSP:TRANSPARENT
PRIORITY:0
SUMMARY:Meet the Teacher Night
LOCATION:St. Francis de Sales School
DESCRIPTION:Schools:\nSt. Francis de Sales School\n\nLocation:\nSt. Franci
 s de Sales School\n\n
URL;VALUE=URI:http://sfs.tandem.co/index.php?type=view&action=event&id=9003
CREATED:20210716T145045Z
LAST-MODIFIED:20210716T145045Z
UID:event-9003-stfrancisdesales@intand.com
END:VEVENT
END:VCALENDAR
