BEGIN:VCALENDAR
VERSION:2.0
PRODID:-//Intand Corporation//Tandem//EN
METHOD:PUBLISH
BEGIN:VEVENT
DTSTAMP:20260424T201312Z
DTSTART:20210729T210000Z
DTEND:20210730T020000Z
TRANSP:TRANSPARENT
PRIORITY:0
SUMMARY:Cross Country - Summer Conditioning 
LOCATION:The Parlour of Jackson
DESCRIPTION:Schools:\nSt. Francis de Sales School\n\nLocation:\nThe Parlou
 r of Jackson\n\n
URL;VALUE=URI:http://sfs.tandem.co/index.php?type=view&action=event&id=9304
CREATED:20210721T200058Z
LAST-MODIFIED:20210727T205242Z
UID:event-9304-stfrancisdesales@intand.com
END:VEVENT
END:VCALENDAR
