BEGIN:VCALENDAR
VERSION:2.0
PRODID:-//Intand Corporation//Tandem//EN
METHOD:PUBLISH
BEGIN:VEVENT
DTSTAMP:20260424T183709Z
DTSTART:20210805T233000Z
DTEND:20210806T003000Z
TRANSP:TRANSPARENT
PRIORITY:0
SUMMARY:7th/8th Football Parent Meeting
LOCATION:St. Francis de Sales School > Multi-Purpose Room
DESCRIPTION:Schools:\nSt. Francis de Sales School\n\nLocation:\nSt. Franci
 s de Sales School > Multi-Purpose Room\n\n
URL;VALUE=URI:http://sfs.tandem.co/index.php?type=view&action=event&id=9306
CREATED:20210722T230953Z
LAST-MODIFIED:20210722T230953Z
UID:event-9306-stfrancisdesales@intand.com
END:VEVENT
END:VCALENDAR
